BEGIN:VCALENDAR
VERSION:2.0
PRODID:-//The Missoula Midtown Association - ECPv6.15.20//NONSGML v1.0//EN
CALSCALE:GREGORIAN
METHOD:PUBLISH
X-WR-CALNAME:The Missoula Midtown Association
X-ORIGINAL-URL:https://missoulamidtown.com
X-WR-CALDESC:Events for The Missoula Midtown Association
REFRESH-INTERVAL;VALUE=DURATION:PT1H
X-Robots-Tag:noindex
X-PUBLISHED-TTL:PT1H
BEGIN:VTIMEZONE
TZID:America/Denver
BEGIN:DAYLIGHT
TZOFFSETFROM:-0700
TZOFFSETTO:-0600
TZNAME:MDT
DTSTART:20230312T090000
END:DAYLIGHT
BEGIN:STANDARD
TZOFFSETFROM:-0600
TZOFFSETTO:-0700
TZNAME:MST
DTSTART:20231105T080000
END:STANDARD
BEGIN:DAYLIGHT
TZOFFSETFROM:-0700
TZOFFSETTO:-0600
TZNAME:MDT
DTSTART:20240310T090000
END:DAYLIGHT
BEGIN:STANDARD
TZOFFSETFROM:-0600
TZOFFSETTO:-0700
TZNAME:MST
DTSTART:20241103T080000
END:STANDARD
BEGIN:DAYLIGHT
TZOFFSETFROM:-0700
TZOFFSETTO:-0600
TZNAME:MDT
DTSTART:20250309T090000
END:DAYLIGHT
BEGIN:STANDARD
TZOFFSETFROM:-0600
TZOFFSETTO:-0700
TZNAME:MST
DTSTART:20251102T080000
END:STANDARD
BEGIN:DAYLIGHT
TZOFFSETFROM:-0700
TZOFFSETTO:-0600
TZNAME:MDT
DTSTART:20260308T090000
END:DAYLIGHT
BEGIN:STANDARD
TZOFFSETFROM:-0600
TZOFFSETTO:-0700
TZNAME:MST
DTSTART:20261101T080000
END:STANDARD
END:VTIMEZONE
BEGIN:VEVENT
DTSTART;TZID=America/Denver:20250902T170000
DTEND;TZID=America/Denver:20250902T190000
DTSTAMP:20260425T081435
CREATED:20250331T211308Z
LAST-MODIFIED:20250815T162253Z
UID:10000076-1756832400-1756839600@missoulamidtown.com
SUMMARY:2025 September Midtown Mixer
DESCRIPTION:Hosted by Blackfoot Communications at the Missoula Country Club.
URL:https://missoulamidtown.com/event/2025-september-midtown-mixer/
LOCATION:Missoula Country Club\, 3850 Old U.S. 93\, Missoula\, MT\, 59801\, United States
CATEGORIES:Missoula Midtown Events
END:VEVENT
BEGIN:VEVENT
DTSTART;TZID=America/Denver:20240903T170000
DTEND;TZID=America/Denver:20240903T190000
DTSTAMP:20260425T081435
CREATED:20240507T204956Z
LAST-MODIFIED:20240827T201346Z
UID:10000052-1725382800-1725390000@missoulamidtown.com
SUMMARY:2024 September Midtown Mixer
DESCRIPTION:Join us September 3rd\, 5:00-7:00pm for our September mixer\, at the Missoula Country Club.  Hosted by Blackfoot Communications.
URL:https://missoulamidtown.com/event/2024-september-midtown-mixer/
LOCATION:Missoula Country Club\, 3850 Old U.S. 93\, Missoula\, MT\, 59801\, United States
CATEGORIES:Missoula Midtown Events
ATTACH;FMTTYPE=image/png:https://missoulamidtown.com/wp-content/uploads/2024/05/2024.09.mixer_.png
END:VEVENT
END:VCALENDAR