BEGIN:VCALENDAR
VERSION:2.0
PRODID:-//The Missoula Midtown Association - ECPv6.15.20//NONSGML v1.0//EN
CALSCALE:GREGORIAN
METHOD:PUBLISH
X-WR-CALNAME:The Missoula Midtown Association
X-ORIGINAL-URL:https://missoulamidtown.com
X-WR-CALDESC:Events for The Missoula Midtown Association
REFRESH-INTERVAL;VALUE=DURATION:PT1H
X-Robots-Tag:noindex
X-PUBLISHED-TTL:PT1H
BEGIN:VTIMEZONE
TZID:America/Denver
BEGIN:DAYLIGHT
TZOFFSETFROM:-0700
TZOFFSETTO:-0600
TZNAME:MDT
DTSTART:20240310T090000
END:DAYLIGHT
BEGIN:STANDARD
TZOFFSETFROM:-0600
TZOFFSETTO:-0700
TZNAME:MST
DTSTART:20241103T080000
END:STANDARD
BEGIN:DAYLIGHT
TZOFFSETFROM:-0700
TZOFFSETTO:-0600
TZNAME:MDT
DTSTART:20250309T090000
END:DAYLIGHT
BEGIN:STANDARD
TZOFFSETFROM:-0600
TZOFFSETTO:-0700
TZNAME:MST
DTSTART:20251102T080000
END:STANDARD
BEGIN:DAYLIGHT
TZOFFSETFROM:-0700
TZOFFSETTO:-0600
TZNAME:MDT
DTSTART:20260308T090000
END:DAYLIGHT
BEGIN:STANDARD
TZOFFSETFROM:-0600
TZOFFSETTO:-0700
TZNAME:MST
DTSTART:20261101T080000
END:STANDARD
END:VTIMEZONE
BEGIN:VEVENT
DTSTART;TZID=America/Denver:20250401T170000
DTEND;TZID=America/Denver:20250401T190000
DTSTAMP:20260425T080550
CREATED:20250319T175500Z
LAST-MODIFIED:20250320T164758Z
UID:10000072-1743526800-1743534000@missoulamidtown.com
SUMMARY:2025 April Midtown Mixer
DESCRIPTION:Hosted by Healthy Acres Foundation & Missoula Butterfly House along with Park Side Credit Union \nThe Missoula Butterfly House and Insectarium’s mission is to inspire an appreciation and understanding of insects and their relatives. In late 2023\, they realized their long-term dream of opening a tropical butterfly house and insect museum in Missoula\, MT. Through exhibits\, field trips\, and special programs their approach to learning involves hands-on\, interactive experiences with some amazing animals – leaving learners of all ages with a deep and lasting impression and a desire to learn more. Their education programs create powerful learning experiences that engage multiple senses\, provide tangible and memorable experiences\, foster emotional connections\, and inspire a sense of responsibility and curiosity about the natural world. \nHealthy Acres Healthy Communities Foundation is the non-profit arm of the Missoula County Department of Ecology and Extension\, providing philanthropic support for educational programs and resources in the areas of land management\, nutrition\, invasive species\, 4-H\, youth and horticulture. The new location provides opportunities to engage more deeply with the community and continue to develop partnerships to help them grow. \nPark Side Credit Union serves its 30\,000 members and local communities by focusing on relationships. Pioneering strategic philanthropy with their innovative Park Side Partner Program and award-winning community investment campaigns\, Park Side Credit Union believes they are the best place for the people of western Montana to get a loan. They like to say yes!
URL:https://missoulamidtown.com/event/2025-april-midtown-mixer/
LOCATION:Gerald W. Marks Exploration Center and Rocky Mountain Gardens\, 1075 South Ave W\, Missoula\, MT\, 59801\, United States
CATEGORIES:Missoula Midtown Events
ATTACH;FMTTYPE=image/jpeg:https://missoulamidtown.com/wp-content/uploads/2025/03/2025-04-Midtown-mixer.jpg
END:VEVENT
END:VCALENDAR