BEGIN:VCALENDAR
VERSION:2.0
PRODID:-//The Missoula Midtown Association - ECPv6.15.16//NONSGML v1.0//EN
CALSCALE:GREGORIAN
METHOD:PUBLISH
X-ORIGINAL-URL:https://missoulamidtown.com
X-WR-CALDESC:Events for The Missoula Midtown Association
REFRESH-INTERVAL;VALUE=DURATION:PT1H
X-Robots-Tag:noindex
X-PUBLISHED-TTL:PT1H
BEGIN:VTIMEZONE
TZID:America/Denver
BEGIN:DAYLIGHT
TZOFFSETFROM:-0700
TZOFFSETTO:-0600
TZNAME:MDT
DTSTART:20240310T090000
END:DAYLIGHT
BEGIN:STANDARD
TZOFFSETFROM:-0600
TZOFFSETTO:-0700
TZNAME:MST
DTSTART:20241103T080000
END:STANDARD
BEGIN:DAYLIGHT
TZOFFSETFROM:-0700
TZOFFSETTO:-0600
TZNAME:MDT
DTSTART:20250309T090000
END:DAYLIGHT
BEGIN:STANDARD
TZOFFSETFROM:-0600
TZOFFSETTO:-0700
TZNAME:MST
DTSTART:20251102T080000
END:STANDARD
BEGIN:DAYLIGHT
TZOFFSETFROM:-0700
TZOFFSETTO:-0600
TZNAME:MDT
DTSTART:20260308T090000
END:DAYLIGHT
BEGIN:STANDARD
TZOFFSETFROM:-0600
TZOFFSETTO:-0700
TZNAME:MST
DTSTART:20261101T080000
END:STANDARD
END:VTIMEZONE
BEGIN:VEVENT
DTSTART;TZID=America/Denver:20250506T170000
DTEND;TZID=America/Denver:20250506T190000
DTSTAMP:20260421T092221
CREATED:20250331T194139Z
LAST-MODIFIED:20250415T151849Z
UID:10000073-1746550800-1746558000@missoulamidtown.com
SUMMARY:2025 May Midtown Mixer
DESCRIPTION:Hosted by AlphaGraphics \nAlphaGraphics Missoula is a dedicated team that is passionate about high-quality offset and digital printing\, large format signage\, vehicle graphics\, and mailing services\, all delivered with a speedy turnaround and personalized consultative approach. They take pride in offering a broad range of products and building lasting relationships by staying true to their core values of Humanity\, Excellence\, Evolving\, Development\, and Scrappy. Led by our experienced Center Manager and Midtown Board Secretary\, Jessica Yandell\, their local expertise and commitment to outstanding customer service help bring your vision to life and ensure that every project is a success.
URL:https://missoulamidtown.com/event/2025-may-midtown-mixer/
LOCATION:AlphaGraphics\, 1947 South Ave. W.\, Missoula\, MT\, 59801\, United States
CATEGORIES:Missoula Midtown Events
ATTACH;FMTTYPE=image/jpeg:https://missoulamidtown.com/wp-content/uploads/2025/03/2025-05-Midtown-mixer.jpg
END:VEVENT
END:VCALENDAR